BEGIN:VCALENDAR
VERSION:2.0
PRODID:-//David Asper Centre for Constitutional Rights - ECPv6.15.20//NONSGML v1.0//EN
CALSCALE:GREGORIAN
METHOD:PUBLISH
X-WR-CALNAME:David Asper Centre for Constitutional Rights
X-ORIGINAL-URL:https://aspercentre.ca
X-WR-CALDESC:Events for David Asper Centre for Constitutional Rights
REFRESH-INTERVAL;VALUE=DURATION:PT1H
X-Robots-Tag:noindex
X-PUBLISHED-TTL:PT1H
BEGIN:VTIMEZONE
TZID:America/Toronto
BEGIN:DAYLIGHT
TZOFFSETFROM:-0500
TZOFFSETTO:-0400
TZNAME:EDT
DTSTART:20090308T070000
END:DAYLIGHT
BEGIN:STANDARD
TZOFFSETFROM:-0400
TZOFFSETTO:-0500
TZNAME:EST
DTSTART:20091101T060000
END:STANDARD
BEGIN:DAYLIGHT
TZOFFSETFROM:-0500
TZOFFSETTO:-0400
TZNAME:EDT
DTSTART:20100314T070000
END:DAYLIGHT
BEGIN:STANDARD
TZOFFSETFROM:-0400
TZOFFSETTO:-0500
TZNAME:EST
DTSTART:20101107T060000
END:STANDARD
BEGIN:DAYLIGHT
TZOFFSETFROM:-0500
TZOFFSETTO:-0400
TZNAME:EDT
DTSTART:20110313T070000
END:DAYLIGHT
BEGIN:STANDARD
TZOFFSETFROM:-0400
TZOFFSETTO:-0500
TZNAME:EST
DTSTART:20111106T060000
END:STANDARD
END:VTIMEZONE
BEGIN:VEVENT
DTSTART;TZID=America/Toronto:20101122T143000
DTEND;TZID=America/Toronto:20101122T170000
DTSTAMP:20260420T043114
CREATED:20170621T151656Z
LAST-MODIFIED:20170621T151656Z
UID:936-1290436200-1290445200@aspercentre.ca
SUMMARY:Reference re. Constitutionality of s.293 of the Criminal Code of Canada
DESCRIPTION:The hearing in the Court reference on the constitutionality of the polygamy prohibition in the Criminal Code of Canada commences in the British Columbia Supreme Court. \n  \nEvent date: Monday\, November 22\, 2010\, at 2:28 PM\nLocation: British Columbia Supreme Court\, Vancouver\, British Columbia \n 
URL:https://aspercentre.ca/event/reference-re-constitutionality-of-s-293-of-the-criminal-code-of-canada/
END:VEVENT
END:VCALENDAR