BEGIN:VCALENDAR
VERSION:2.0
PRODID:-//David Asper Centre for Constitutional Rights - ECPv6.15.20//NONSGML v1.0//EN
CALSCALE:GREGORIAN
METHOD:PUBLISH
X-WR-CALNAME:David Asper Centre for Constitutional Rights
X-ORIGINAL-URL:https://aspercentre.ca
X-WR-CALDESC:Events for David Asper Centre for Constitutional Rights
REFRESH-INTERVAL;VALUE=DURATION:PT1H
X-Robots-Tag:noindex
X-PUBLISHED-TTL:PT1H
BEGIN:VTIMEZONE
TZID:America/Toronto
BEGIN:DAYLIGHT
TZOFFSETFROM:-0500
TZOFFSETTO:-0400
TZNAME:EDT
DTSTART:20100314T070000
END:DAYLIGHT
BEGIN:STANDARD
TZOFFSETFROM:-0400
TZOFFSETTO:-0500
TZNAME:EST
DTSTART:20101107T060000
END:STANDARD
BEGIN:DAYLIGHT
TZOFFSETFROM:-0500
TZOFFSETTO:-0400
TZNAME:EDT
DTSTART:20110313T070000
END:DAYLIGHT
BEGIN:STANDARD
TZOFFSETFROM:-0400
TZOFFSETTO:-0500
TZNAME:EST
DTSTART:20111106T060000
END:STANDARD
BEGIN:DAYLIGHT
TZOFFSETFROM:-0500
TZOFFSETTO:-0400
TZNAME:EDT
DTSTART:20120311T070000
END:DAYLIGHT
BEGIN:STANDARD
TZOFFSETFROM:-0400
TZOFFSETTO:-0500
TZNAME:EST
DTSTART:20121104T060000
END:STANDARD
END:VTIMEZONE
BEGIN:VEVENT
DTSTART;VALUE=DATE:20111104
DTEND;VALUE=DATE:20111106
DTSTAMP:20260419T113025
CREATED:20170621T150054Z
LAST-MODIFIED:20170621T150054Z
UID:910-1320364800-1320537599@aspercentre.ca
SUMMARY:Reference Re Assisted Human Reproduction Act
DESCRIPTION:Implications of the Supreme Court’s Decision \nNovember 4-5\, 2011 \nBennett Lecture Hall\nFaculty of Law\nUniversity of Toronto\n78 Queen’s Park Cres\, Toronto\, ON \nThe Supreme Court of Canada released its decision in the Reference re. the Assisted Human Reproduction Act this past spring\, striking down some sections and leaving others intact on constitutional grounds. What does this mean for future practice and regulation in this area? What are the regulatory implications for other areas of law that have federal and provincial impacts? What does this mean for reproductive and privacy rights in Canada? How can Canada regulate this area in the global picture? \nKeynote presentations to include a dialogue between Preston Manning and Carolyn Bennett\, moderated by Steve Paikin\, anchor and senior editor\, The Agenda with Steve Paikin\, and viewing of the CBC documentary\, Offspring\, with producer Barry Stevens. \nSpeakers include Peter Hogg\, Bernard Dickens\, Colleen Flood\, Marilyn Pilkington\, Carol Rogerson\, Trudo Lemmens\, Joseph Arvay\, Dr. Clifford Librach\, Ian Lee\, Marie-Claude Premont\, Glenn Rivard\, Francoise Baylis and Karen Busby\, among others. \nTopics covered will include:\nGeneral overview of the case\nQuebec’s arguments for the challenge\nUse of the criminal law power\nInternational perspectives\nMoral dimensions of AHR; why is AHR practice different from general medical practice\nAHRA and reproductive rights; rights of children\nImplications for the current federal regulatory state\nCurrent legal landscape and it practical implications for lawyers\, medical practitioners and families. \nRegistration Fee: $200.00 (reduced rates for students\, government and NGOs -click on REGISTRATION below for details). \nPROGRAM FLYER\nCONFERENCE AGENDA\nREGISTRATION IS NOW CLOSED
URL:https://aspercentre.ca/event/reference-re-assisted-human-reproduction-act/
END:VEVENT
END:VCALENDAR