BEGIN:VCALENDAR
VERSION:2.0
PRODID:-//David Asper Centre for Constitutional Rights - ECPv6.15.20//NONSGML v1.0//EN
CALSCALE:GREGORIAN
METHOD:PUBLISH
X-WR-CALNAME:David Asper Centre for Constitutional Rights
X-ORIGINAL-URL:https://aspercentre.ca
X-WR-CALDESC:Events for David Asper Centre for Constitutional Rights
REFRESH-INTERVAL;VALUE=DURATION:PT1H
X-Robots-Tag:noindex
X-PUBLISHED-TTL:PT1H
BEGIN:VTIMEZONE
TZID:America/Toronto
BEGIN:DAYLIGHT
TZOFFSETFROM:-0500
TZOFFSETTO:-0400
TZNAME:EDT
DTSTART:20120311T070000
END:DAYLIGHT
BEGIN:STANDARD
TZOFFSETFROM:-0400
TZOFFSETTO:-0500
TZNAME:EST
DTSTART:20121104T060000
END:STANDARD
BEGIN:DAYLIGHT
TZOFFSETFROM:-0500
TZOFFSETTO:-0400
TZNAME:EDT
DTSTART:20130310T070000
END:DAYLIGHT
BEGIN:STANDARD
TZOFFSETFROM:-0400
TZOFFSETTO:-0500
TZNAME:EST
DTSTART:20131103T060000
END:STANDARD
BEGIN:DAYLIGHT
TZOFFSETFROM:-0500
TZOFFSETTO:-0400
TZNAME:EDT
DTSTART:20140309T070000
END:DAYLIGHT
BEGIN:STANDARD
TZOFFSETFROM:-0400
TZOFFSETTO:-0500
TZNAME:EST
DTSTART:20141102T060000
END:STANDARD
END:VTIMEZONE
BEGIN:VEVENT
DTSTART;TZID=America/Toronto:20131101T123000
DTEND;TZID=America/Toronto:20131101T140000
DTSTAMP:20260420T133618
CREATED:20170621T165227Z
LAST-MODIFIED:20170621T165227Z
UID:1015-1383309000-1383314400@aspercentre.ca
SUMMARY:The Indigenous as Alien
DESCRIPTION:Constitutional Roundtable\nHarney Program in Ethnic\, Immigration and Pluralism Studies &\nCanada Research Chair in Citizenship and Multiculturalism \n present \nLeti Volpp\nUC Berkeley School of Law \nThe Indigenous as Alien \nImmigration law\, as it is taught\, studied\, and researched in the United States\, imagines away the fact of preexisting indigenous populations.  To show how this takes place\, this Essay examines the way immigration law narrates space\, time\, and membership.  But despite this disappearance from the field\, Indians have figured in U.S. immigration law\, and thus\, the Essay describes the neglected legal history of the treatment of American Indians under U.S. immigration and citizenship law.  The paper then returns to explain why Indians have disappeared from U.S. immigration law through an investigation of the relationship between We the People\, the “settler contract\,” and the “nation of immigrants.” \nLeti Volpp is the Robert D. and Leslie Kay Raven Professor of Law in Access to Justice at the UC Berkeley School of Law\, where she teaches courses on immigration and citizenship.  Her most recent publications include “Imaginings of Space in Immigration Law\,” in Law\, Culture and the Humanities (2012)\, the edited symposium issue “Denaturalizing Citizenship: A Symposium on Linda Bosniak’s The Citizen and the Alien and Ayelet Shachar’s The Birthright Lottery\,” in Issues in Legal Scholarship (2011)\, and “Framing Cultural Difference: Immigrant Women and Discourses of Tradition\,” in Differences: A Journal of Feminist Cultural Studies(2011). Forthcoming work includes “Civility and the Alien\,” in Civility\, Legality and the Limits of Justice (Austin Sarat\, ed.\, Cambridge University Press\, forthcoming). \n\n\n\n\nEvent date: Friday\, November 01\, 2013\, from 12:30 PM to 2:00 PM\n\n\n\n\nLocation: Room 108N\, North House\, Munk School of Global Affairs\, 1 Devonshire Place
URL:https://aspercentre.ca/event/the-indigenous-as-alien/
END:VEVENT
END:VCALENDAR