BEGIN:VCALENDAR
VERSION:2.0
PRODID:-//David Asper Centre for Constitutional Rights - ECPv6.15.20//NONSGML v1.0//EN
CALSCALE:GREGORIAN
METHOD:PUBLISH
X-WR-CALNAME:David Asper Centre for Constitutional Rights
X-ORIGINAL-URL:https://aspercentre.ca
X-WR-CALDESC:Events for David Asper Centre for Constitutional Rights
REFRESH-INTERVAL;VALUE=DURATION:PT1H
X-Robots-Tag:noindex
X-PUBLISHED-TTL:PT1H
BEGIN:VTIMEZONE
TZID:America/Toronto
BEGIN:DAYLIGHT
TZOFFSETFROM:-0500
TZOFFSETTO:-0400
TZNAME:EDT
DTSTART:20200308T070000
END:DAYLIGHT
BEGIN:STANDARD
TZOFFSETFROM:-0400
TZOFFSETTO:-0500
TZNAME:EST
DTSTART:20201101T060000
END:STANDARD
BEGIN:DAYLIGHT
TZOFFSETFROM:-0500
TZOFFSETTO:-0400
TZNAME:EDT
DTSTART:20210314T070000
END:DAYLIGHT
BEGIN:STANDARD
TZOFFSETFROM:-0400
TZOFFSETTO:-0500
TZNAME:EST
DTSTART:20211107T060000
END:STANDARD
BEGIN:DAYLIGHT
TZOFFSETFROM:-0500
TZOFFSETTO:-0400
TZNAME:EDT
DTSTART:20220313T070000
END:DAYLIGHT
BEGIN:STANDARD
TZOFFSETFROM:-0400
TZOFFSETTO:-0500
TZNAME:EST
DTSTART:20221106T060000
END:STANDARD
END:VTIMEZONE
BEGIN:VEVENT
DTSTART;TZID=America/Toronto:20210622T123000
DTEND;TZID=America/Toronto:20210622T133000
DTSTAMP:20260422T132429
CREATED:20210608T185942Z
LAST-MODIFIED:20210608T190044Z
UID:6539-1624365000-1624368600@aspercentre.ca
SUMMARY:Clinic Information Session
DESCRIPTION:This information session\, for University of Toronto Faculty of Law upper year students\, will provide details on how to enroll in the for-credit clinical programs at the faculty including the Asper Centre Constitutional Rights Clinic\, Downtown Legal Services\, and the Investor Protection Clinic for Fall 2021.\n\n\n\nThe following Directors will present at the information session and there will be an opportunity to ask questions.\n\nCheryl Milne\, Asper Centre\n\nPrasanna Balasundaram\, Downtown Legal Services\nIvy Lam\, Investor Protection Clinic \n\n\nLink to Zoom Webinar can be found in Faculty of Law Events Calendar (internal) here >> Clinic Information Session | University of Toronto Faculty of Law (utoronto.ca)
URL:https://aspercentre.ca/event/clinic-information-session-4/
LOCATION:Online Zoom Webinar
ORGANIZER;CN="Tal Schreier":MAILTO:tal.schreier@utoronto.ca
END:VEVENT
END:VCALENDAR