BEGIN:VCALENDAR
VERSION:2.0
PRODID:-//David Asper Centre for Constitutional Rights - ECPv6.15.20//NONSGML v1.0//EN
CALSCALE:GREGORIAN
METHOD:PUBLISH
X-ORIGINAL-URL:https://aspercentre.ca
X-WR-CALDESC:Events for David Asper Centre for Constitutional Rights
REFRESH-INTERVAL;VALUE=DURATION:PT1H
X-Robots-Tag:noindex
X-PUBLISHED-TTL:PT1H
BEGIN:VTIMEZONE
TZID:America/Toronto
BEGIN:DAYLIGHT
TZOFFSETFROM:-0500
TZOFFSETTO:-0400
TZNAME:EDT
DTSTART:20200308T070000
END:DAYLIGHT
BEGIN:STANDARD
TZOFFSETFROM:-0400
TZOFFSETTO:-0500
TZNAME:EST
DTSTART:20201101T060000
END:STANDARD
BEGIN:DAYLIGHT
TZOFFSETFROM:-0500
TZOFFSETTO:-0400
TZNAME:EDT
DTSTART:20210314T070000
END:DAYLIGHT
BEGIN:STANDARD
TZOFFSETFROM:-0400
TZOFFSETTO:-0500
TZNAME:EST
DTSTART:20211107T060000
END:STANDARD
BEGIN:DAYLIGHT
TZOFFSETFROM:-0500
TZOFFSETTO:-0400
TZNAME:EDT
DTSTART:20220313T070000
END:DAYLIGHT
BEGIN:STANDARD
TZOFFSETFROM:-0400
TZOFFSETTO:-0500
TZNAME:EST
DTSTART:20221106T060000
END:STANDARD
END:VTIMEZONE
BEGIN:VEVENT
DTSTART;TZID=America/Toronto:20210818T170000
DTEND;TZID=America/Toronto:20210818T170000
DTSTAMP:20260422T105406
CREATED:20210625T173843Z
LAST-MODIFIED:20210630T235735Z
UID:6573-1629306000-1629306000@aspercentre.ca
SUMMARY:Application Due: Asper Centre Working Group Proposal
DESCRIPTION:For U of T Law JD students\nDid you know that you can become involved in the Asper Centre’s legal advocacy work through volunteering (as a 1L) or leading (as a 2L/3L) one of our Student Working Groups? The working groups are student-led initiatives that bring together approx. 15 students to work in conjunction with the Asper Centre\, U of T Law faculty members\, researchers\, civil society groups and members of the bar on current Charter rights advocacy or Constitutional law issues. Last year we had 6 incredible working groups focused on Refugee & Immigration Law\, Climate Justice\, Sex Workers’ Rights\, Artificial Intelligence\, Prisoners’ Rights and Indigenous Rights. Read more about our student working groups and find our Call for Proposals for 2021-2022 Asper Centre Working Groups HERE: https://aspercentre.ca/clinic/student-working-groups/.\n\n\n\nWe’re looking forward to hearing from you to discuss ideas for engaging projects for the upcoming year! Emails to tal.schreier@utoronto.ca.
URL:https://aspercentre.ca/event/application-due-asper-centre-working-group-proposal/
END:VEVENT
END:VCALENDAR