BEGIN:VCALENDAR
VERSION:2.0
PRODID:-//David Asper Centre for Constitutional Rights - ECPv6.15.20//NONSGML v1.0//EN
CALSCALE:GREGORIAN
METHOD:PUBLISH
X-WR-CALNAME:David Asper Centre for Constitutional Rights
X-ORIGINAL-URL:https://aspercentre.ca
X-WR-CALDESC:Events for David Asper Centre for Constitutional Rights
REFRESH-INTERVAL;VALUE=DURATION:PT1H
X-Robots-Tag:noindex
X-PUBLISHED-TTL:PT1H
BEGIN:VTIMEZONE
TZID:America/Toronto
BEGIN:DAYLIGHT
TZOFFSETFROM:-0500
TZOFFSETTO:-0400
TZNAME:EDT
DTSTART:20200308T070000
END:DAYLIGHT
BEGIN:STANDARD
TZOFFSETFROM:-0400
TZOFFSETTO:-0500
TZNAME:EST
DTSTART:20201101T060000
END:STANDARD
BEGIN:DAYLIGHT
TZOFFSETFROM:-0500
TZOFFSETTO:-0400
TZNAME:EDT
DTSTART:20210314T070000
END:DAYLIGHT
BEGIN:STANDARD
TZOFFSETFROM:-0400
TZOFFSETTO:-0500
TZNAME:EST
DTSTART:20211107T060000
END:STANDARD
BEGIN:DAYLIGHT
TZOFFSETFROM:-0500
TZOFFSETTO:-0400
TZNAME:EDT
DTSTART:20220313T070000
END:DAYLIGHT
BEGIN:STANDARD
TZOFFSETFROM:-0400
TZOFFSETTO:-0500
TZNAME:EST
DTSTART:20221106T060000
END:STANDARD
END:VTIMEZONE
BEGIN:VEVENT
DTSTART;TZID=America/Toronto:20211001T120000
DTEND;TZID=America/Toronto:20211001T120000
DTSTAMP:20260422T081033
CREATED:20210924T202158Z
LAST-MODIFIED:20211001T145717Z
UID:6681-1633089600-1633089600@aspercentre.ca
SUMMARY:Asper Centre Podcast Launch
DESCRIPTION:The Asper Centre is thrilled to announce the launch of its podcast on Friday October 1\, 2021. \nCharter: A Course\, hosted by the Asper Centre’s Executive Director Cheryl Milne\, focuses on Canadian constitutional law and litigation. In each episode\, we highlight the accomplishments of U of T Law’s faculty and alumni involved in leading constitutional cases and issues. Each episode also includes a “Practice Corner\,” where we talk about the ins and outs of what it means to be a constitutional litigator. Whether you are a law student\, a lawyer\, or just an interested person\, we hope that you learn about an aspect of constitutional law and litigation that interests you in our podcast. \nThe podcast will be available on October 1\, 2021 on many popular podcast streaming services such as Spotify\, Stitcher and Apple Music and on our website HERE. \n 
URL:https://aspercentre.ca/event/asper-centre-podcast-launch/
END:VEVENT
END:VCALENDAR