BEGIN:VCALENDAR
VERSION:2.0
PRODID:-//David Asper Centre for Constitutional Rights - ECPv6.15.20//NONSGML v1.0//EN
CALSCALE:GREGORIAN
METHOD:PUBLISH
X-WR-CALNAME:David Asper Centre for Constitutional Rights
X-ORIGINAL-URL:https://aspercentre.ca
X-WR-CALDESC:Events for David Asper Centre for Constitutional Rights
REFRESH-INTERVAL;VALUE=DURATION:PT1H
X-Robots-Tag:noindex
X-PUBLISHED-TTL:PT1H
BEGIN:VTIMEZONE
TZID:America/Toronto
BEGIN:DAYLIGHT
TZOFFSETFROM:-0500
TZOFFSETTO:-0400
TZNAME:EDT
DTSTART:20210314T070000
END:DAYLIGHT
BEGIN:STANDARD
TZOFFSETFROM:-0400
TZOFFSETTO:-0500
TZNAME:EST
DTSTART:20211107T060000
END:STANDARD
BEGIN:DAYLIGHT
TZOFFSETFROM:-0500
TZOFFSETTO:-0400
TZNAME:EDT
DTSTART:20220313T070000
END:DAYLIGHT
BEGIN:STANDARD
TZOFFSETFROM:-0400
TZOFFSETTO:-0500
TZNAME:EST
DTSTART:20221106T060000
END:STANDARD
BEGIN:DAYLIGHT
TZOFFSETFROM:-0500
TZOFFSETTO:-0400
TZNAME:EDT
DTSTART:20230312T070000
END:DAYLIGHT
BEGIN:STANDARD
TZOFFSETFROM:-0400
TZOFFSETTO:-0500
TZNAME:EST
DTSTART:20231105T060000
END:STANDARD
END:VTIMEZONE
BEGIN:VEVENT
DTSTART;TZID=America/Toronto:20220304T123000
DTEND;TZID=America/Toronto:20220304T143000
DTSTAMP:20260422T010048
CREATED:20220216T171704Z
LAST-MODIFIED:20220218T161536Z
UID:7054-1646397000-1646404200@aspercentre.ca
SUMMARY:Book Forum-Remedies for Human Rights Violations by Kent Roach
DESCRIPTION:Asper Centre and IHRP online Book Forum\nRemedies for Human Rights Violations by Kent Roach \nHosted by the International Human Rights Program and the Asper Centre for Constitutional Rights\, \nFaculty of Law\, University of Toronto \nFriday\, March 4\, 2022 at 12:30-2:30pm (EST) \nREGISTER HERE\nNote: After registering\, you will receive a confirmation email containing information about joining the meeting. \nProf Roach’s book is available through the Law Library catalog at: https://librarysearch.library.utoronto.ca/permalink/01UTORONTO_INST/14bjeso/alma991107004593306196 or directly at: https://www-cambridge-org.myaccess.library.utoronto.ca/core/books/remedies-for-human-rights-violations/9336DE5D434CE91E89990EE71BBA6B6A \nRead Rights Review interview with Prof Roach – https://ihrp.law.utoronto.ca/interview-professor-kent-roach-neglected-field-remedies-human-rights-violationsrof \nCo-Chairs: \nRebecca Cook\, Professor Emeritus\, Faculty of Law \nAshley Major\, Research Associate\, International Human Rights Program\, \nCheryl Milne\, Director\, Asper Centre for Constitutional Rights
URL:https://aspercentre.ca/event/book-forum-remedies-for-human-rights-violations-by-kent-roach/
END:VEVENT
END:VCALENDAR