BEGIN:VCALENDAR
VERSION:2.0
PRODID:-//David Asper Centre for Constitutional Rights - ECPv6.15.20//NONSGML v1.0//EN
CALSCALE:GREGORIAN
METHOD:PUBLISH
X-ORIGINAL-URL:https://aspercentre.ca
X-WR-CALDESC:Events for David Asper Centre for Constitutional Rights
REFRESH-INTERVAL;VALUE=DURATION:PT1H
X-Robots-Tag:noindex
X-PUBLISHED-TTL:PT1H
BEGIN:VTIMEZONE
TZID:America/Toronto
BEGIN:DAYLIGHT
TZOFFSETFROM:-0500
TZOFFSETTO:-0400
TZNAME:EDT
DTSTART:20220313T070000
END:DAYLIGHT
BEGIN:STANDARD
TZOFFSETFROM:-0400
TZOFFSETTO:-0500
TZNAME:EST
DTSTART:20221106T060000
END:STANDARD
BEGIN:DAYLIGHT
TZOFFSETFROM:-0500
TZOFFSETTO:-0400
TZNAME:EDT
DTSTART:20230312T070000
END:DAYLIGHT
BEGIN:STANDARD
TZOFFSETFROM:-0400
TZOFFSETTO:-0500
TZNAME:EST
DTSTART:20231105T060000
END:STANDARD
BEGIN:DAYLIGHT
TZOFFSETFROM:-0500
TZOFFSETTO:-0400
TZNAME:EDT
DTSTART:20240310T070000
END:DAYLIGHT
BEGIN:STANDARD
TZOFFSETFROM:-0400
TZOFFSETTO:-0500
TZNAME:EST
DTSTART:20241103T060000
END:STANDARD
END:VTIMEZONE
BEGIN:VEVENT
DTSTART;TZID=America/Toronto:20230315T123000
DTEND;TZID=America/Toronto:20230315T140000
DTSTAMP:20260421T075249
CREATED:20230202T135944Z
LAST-MODIFIED:20230302T150325Z
UID:7683-1678883400-1678888800@aspercentre.ca
SUMMARY:Careers in Constitutional Law
DESCRIPTION:Are you a U of T Law JD Candidate with a passion for promoting and advancing Charter rights and Constitutional law? Do you want to learn about the numerous career paths that exist for lawyers wishing to practice constitutional law\, Charter litigation or constitutional-adjacent law? \nPlease join the Asper Centre for a lunchtime panel discussion on the various career pathways in constitutional law. Meet and get firsthand career advice from 5 amazing U of T Law alumni: \n\nJessica Orkin (Asper Centre Constitutional Litigator in Residence Fall 2022)\, partner at Goldblatt’s LLP\nKatherine Long (staff lawyer at Justice for Children  and Youth)\nKatrina Longo (DOJ Lawyer)\nJoshua Blum (Refugee and immigration lawyer)\nZachary Biech (staff lawyer at Ecojustice)\n\nEvent for U of T Law students. Lunch provided. No registration required. Email tal.schreier@utoronto.ca
URL:https://aspercentre.ca/event/asper-centre-presents-careers-in-constitutional-law-2/
LOCATION:J140 Jackman Law Building\, 78 Queen's Park Cres\, Toronto\, Ontario\, M5S 2C5\, Canada
END:VEVENT
END:VCALENDAR