BEGIN:VCALENDAR
VERSION:2.0
PRODID:-//David Asper Centre for Constitutional Rights - ECPv6.15.20//NONSGML v1.0//EN
CALSCALE:GREGORIAN
METHOD:PUBLISH
X-WR-CALNAME:David Asper Centre for Constitutional Rights
X-ORIGINAL-URL:https://aspercentre.ca
X-WR-CALDESC:Events for David Asper Centre for Constitutional Rights
REFRESH-INTERVAL;VALUE=DURATION:PT1H
X-Robots-Tag:noindex
X-PUBLISHED-TTL:PT1H
BEGIN:VTIMEZONE
TZID:America/Toronto
BEGIN:DAYLIGHT
TZOFFSETFROM:-0500
TZOFFSETTO:-0400
TZNAME:EDT
DTSTART:20090308T070000
END:DAYLIGHT
BEGIN:STANDARD
TZOFFSETFROM:-0400
TZOFFSETTO:-0500
TZNAME:EST
DTSTART:20091101T060000
END:STANDARD
BEGIN:DAYLIGHT
TZOFFSETFROM:-0500
TZOFFSETTO:-0400
TZNAME:EDT
DTSTART:20100314T070000
END:DAYLIGHT
BEGIN:STANDARD
TZOFFSETFROM:-0400
TZOFFSETTO:-0500
TZNAME:EST
DTSTART:20101107T060000
END:STANDARD
BEGIN:DAYLIGHT
TZOFFSETFROM:-0500
TZOFFSETTO:-0400
TZNAME:EDT
DTSTART:20110313T070000
END:DAYLIGHT
BEGIN:STANDARD
TZOFFSETFROM:-0400
TZOFFSETTO:-0500
TZNAME:EST
DTSTART:20111106T060000
END:STANDARD
END:VTIMEZONE
BEGIN:VEVENT
DTSTART;VALUE=DATE:20100924
DTEND;VALUE=DATE:20100926
DTSTAMP:20260419T235537
CREATED:20170621T153107Z
LAST-MODIFIED:20170621T153107Z
UID:948-1285286400-1285459199@aspercentre.ca
SUMMARY:Who Belongs? Rights\, Benefits\, Obligations and Immigration Status
DESCRIPTION:The David Asper Centre for Constitutional Rights is co-sponsor\, with the Canadian Civil Liberties Association\, of a two day conference at the Faculty of Law on September 24th and 25th\, 2010. \nThe Canadian Civil Liberties Association is undertaking a research project on the status of immigrant in Canadian society. Immigration status – whether it be citizenship\, permanent resident status\, visitor status\, temporary workers status\, “no status” – plays an important role in how rights\, benefits and obligations are allocated. Rules regarding voting rights\, access to social services\, employment and property ownership often make distinctions on the basis of immigration status. What are the consequences of such distinctions? Are they appropriate? \nThe aim of the project is to explore the consequences of the differential access to rights and benefits on the basis of immigration status. Particularly\, the following questions will be explored: What is the current situation with respect to immigration status distinctions made in different sectors such as voting rights\, employment\, professional affiliations\, membership on boards\, investment rules and access to social services? How has the concept of citizenship evolved through the years and internationally? How does it relate to First Nations’ concepts of citizenship? How should we conceptualize distinctions on the basis of immigration status in light of mobility and equality rights? Is discrimination on the basis of immigration status a proxy for racial discrimination? What is the experience of Human Rights Commissions on this issue? How does the temporary foreign workers program operate within our immigration law framework? Is it compatible with the values that sustain it? What impact do current bilateral treaties on the recognition of education credentials have on the treatment of immigrants in Canada? What should be the government’s position with respect to illegal immigrants‘ access to health\, education or other social services? Should we revisit the restrictions on the right to vote\, on employment rules in civil service\, on participation on management boards? \n 
URL:https://aspercentre.ca/event/who-belongs-rights-benefits-obligations-and-immigration-status/
END:VEVENT
END:VCALENDAR