BEGIN:VCALENDAR
VERSION:2.0
PRODID:-//David Asper Centre for Constitutional Rights - ECPv6.15.20//NONSGML v1.0//EN
CALSCALE:GREGORIAN
METHOD:PUBLISH
X-ORIGINAL-URL:https://aspercentre.ca
X-WR-CALDESC:Events for David Asper Centre for Constitutional Rights
REFRESH-INTERVAL;VALUE=DURATION:PT1H
X-Robots-Tag:noindex
X-PUBLISHED-TTL:PT1H
BEGIN:VTIMEZONE
TZID:America/Toronto
BEGIN:DAYLIGHT
TZOFFSETFROM:-0500
TZOFFSETTO:-0400
TZNAME:EDT
DTSTART:20100314T070000
END:DAYLIGHT
BEGIN:STANDARD
TZOFFSETFROM:-0400
TZOFFSETTO:-0500
TZNAME:EST
DTSTART:20101107T060000
END:STANDARD
BEGIN:DAYLIGHT
TZOFFSETFROM:-0500
TZOFFSETTO:-0400
TZNAME:EDT
DTSTART:20110313T070000
END:DAYLIGHT
BEGIN:STANDARD
TZOFFSETFROM:-0400
TZOFFSETTO:-0500
TZNAME:EST
DTSTART:20111106T060000
END:STANDARD
BEGIN:DAYLIGHT
TZOFFSETFROM:-0500
TZOFFSETTO:-0400
TZNAME:EDT
DTSTART:20120311T070000
END:DAYLIGHT
BEGIN:STANDARD
TZOFFSETFROM:-0400
TZOFFSETTO:-0500
TZNAME:EST
DTSTART:20121104T060000
END:STANDARD
END:VTIMEZONE
BEGIN:VEVENT
DTSTART;VALUE=DATE:20110620
DTEND;VALUE=DATE:20110621
DTSTAMP:20260419T172743
CREATED:20170621T150654Z
LAST-MODIFIED:20170621T150654Z
UID:924-1308528000-1308614399@aspercentre.ca
SUMMARY:Clinic Application Deadline
DESCRIPTION:CLINICAL LEGAL EDUCATION: DAVID ASPER CENTRE FOR CONSTITUTIONAL RIGHTS (LAW391H1F) \nUniversity of Toronto\, Faculty of Law students wishing to apply for this course must email a 1-2 page statement of interest to Cheryl Milne\, cheryl.milne@utoronto.ca by June 20\, 2011. Please indicate the following:\n(a) previous upper-year courses in constitutional law or human rights law or experience that you consider to be equivalent;\n(b) indicators of academic\, analytical and research and writing ability\, which may include grades in related classes;\n(c) any experience in human rights or constitutional issues;\n(d) any experience with lawyering or advocacy;\n(e) why you wish to enroll in the Clinic. \nSuccessful applicants will be notified of admission in time for course registration commencing on July 7\, 2011. \n 
URL:https://aspercentre.ca/event/clinic-application-deadline-2/
END:VEVENT
BEGIN:VEVENT
DTSTART;TZID=America/Toronto:20110623T183000
DTEND;TZID=America/Toronto:20110623T203000
DTSTAMP:20260419T172743
CREATED:20170621T150610Z
LAST-MODIFIED:20170621T150610Z
UID:922-1308853800-1308861000@aspercentre.ca
SUMMARY:G20: Lessons Learned\, Messages Lost
DESCRIPTION:Event date: Thursday\, June 23\, 2011\, at 6:30 PM\nLocation: Bennett Lecture Hall\, Flavelle House\, Faculty of Law \nCLICK HERE FOR THE LIVE WEBCAST
URL:https://aspercentre.ca/event/g20-lessons-learned-messages-lost/
END:VEVENT
END:VCALENDAR