BEGIN:VCALENDAR
VERSION:2.0
PRODID:-//David Asper Centre for Constitutional Rights - ECPv6.15.20//NONSGML v1.0//EN
CALSCALE:GREGORIAN
METHOD:PUBLISH
X-WR-CALNAME:David Asper Centre for Constitutional Rights
X-ORIGINAL-URL:https://aspercentre.ca
X-WR-CALDESC:Events for David Asper Centre for Constitutional Rights
REFRESH-INTERVAL;VALUE=DURATION:PT1H
X-Robots-Tag:noindex
X-PUBLISHED-TTL:PT1H
BEGIN:VTIMEZONE
TZID:America/Toronto
BEGIN:DAYLIGHT
TZOFFSETFROM:-0500
TZOFFSETTO:-0400
TZNAME:EDT
DTSTART:20110313T070000
END:DAYLIGHT
BEGIN:STANDARD
TZOFFSETFROM:-0400
TZOFFSETTO:-0500
TZNAME:EST
DTSTART:20111106T060000
END:STANDARD
BEGIN:DAYLIGHT
TZOFFSETFROM:-0500
TZOFFSETTO:-0400
TZNAME:EDT
DTSTART:20120311T070000
END:DAYLIGHT
BEGIN:STANDARD
TZOFFSETFROM:-0400
TZOFFSETTO:-0500
TZNAME:EST
DTSTART:20121104T060000
END:STANDARD
BEGIN:DAYLIGHT
TZOFFSETFROM:-0500
TZOFFSETTO:-0400
TZNAME:EDT
DTSTART:20130310T070000
END:DAYLIGHT
BEGIN:STANDARD
TZOFFSETFROM:-0400
TZOFFSETTO:-0500
TZNAME:EST
DTSTART:20131103T060000
END:STANDARD
END:VTIMEZONE
BEGIN:VEVENT
DTSTART;TZID=America/Toronto:20120925T123000
DTEND;TZID=America/Toronto:20120925T140000
DTSTAMP:20260421T081519
CREATED:20170621T144855Z
LAST-MODIFIED:20170621T144855Z
UID:894-1348576200-1348581600@aspercentre.ca
SUMMARY:Counsel and expert witness reflect on Carter v Canada
DESCRIPTION:Prof. Wayne Sumner (Professor Emeritus of Philosophy\, University of Toronto\, expert witness on ethics in the Carter case) and Joseph Arvay\, Q.C. (counsel for the plaintiffs in Carter and leading constitutional litigator) will reflect on the landmark British Columbia Supreme Court decision\, Carter v Canada 2012 BCSC 886. \nJoseph J. Arvay\, QC holds law degrees from the University of Western Ontario Law School and Harvard Law School. He is called to the Bars of both British Columbia and the Yukon. Mr. Arvay has a busy civil litigation practice but with an emphasis on constitutional and administrative law matters. He has been involved in many constitutional cases of importance in British Columbia and elsewhere in Canada. Mr. Arvay has been involved in a number of aboriginal-rights litigation cases and is also counsel on medical malpractice cases\, class actions\, commercial litigation and defamation.Mr. Arvay has been counsel on a number of landmark constitutional law cases including Egan v Canada\, The Little Sisters litigation\, Health Services\, Canada v PHS Community Services amongst many others. He is counsel on the Carter case. \nWayne Sumner is University Professor Emeritus in the Department of Philosophy at the University of Toronto. He is the author of five books: Abortion and Moral Theory (1981); The Moral Foundation of Rights (1987); Welfare\, Ethics\, and Happiness (1996); The Hateful and the Obscene: Studies in the Limits of Free Expression (2004); and Assisted Death: A Study in Ethics and Law (2011). He is a Fellow of the Royal Society of Canada and recipient of the 2009 Molson Prize in Social Sciences and Humanities from the Canada Council for the Arts. He was qualified as an expert witness in the case before the Supreme Court of British Columbia. \nA light lunch will be served. \nEvent date: Tuesday\, September 25\, 2012\, from 12:30 PM to 2:00 PM\nLocation: Room FLB\, Flavelle House\, Faculty of Law\, University of Toronto \nFor more workshop information\, please contact Nadia Gulezko at n.gulezko@utoronto.ca
URL:https://aspercentre.ca/event/counsel-and-expert-witness-reflect-on-carter-v-canada/
END:VEVENT
END:VCALENDAR