BEGIN:VCALENDAR
VERSION:2.0
PRODID:-//David Asper Centre for Constitutional Rights - ECPv6.15.20//NONSGML v1.0//EN
CALSCALE:GREGORIAN
METHOD:PUBLISH
X-ORIGINAL-URL:https://aspercentre.ca
X-WR-CALDESC:Events for David Asper Centre for Constitutional Rights
REFRESH-INTERVAL;VALUE=DURATION:PT1H
X-Robots-Tag:noindex
X-PUBLISHED-TTL:PT1H
BEGIN:VTIMEZONE
TZID:America/Toronto
BEGIN:DAYLIGHT
TZOFFSETFROM:-0500
TZOFFSETTO:-0400
TZNAME:EDT
DTSTART:20190310T070000
END:DAYLIGHT
BEGIN:STANDARD
TZOFFSETFROM:-0400
TZOFFSETTO:-0500
TZNAME:EST
DTSTART:20191103T060000
END:STANDARD
BEGIN:DAYLIGHT
TZOFFSETFROM:-0500
TZOFFSETTO:-0400
TZNAME:EDT
DTSTART:20200308T070000
END:DAYLIGHT
BEGIN:STANDARD
TZOFFSETFROM:-0400
TZOFFSETTO:-0500
TZNAME:EST
DTSTART:20201101T060000
END:STANDARD
BEGIN:DAYLIGHT
TZOFFSETFROM:-0500
TZOFFSETTO:-0400
TZNAME:EDT
DTSTART:20210314T070000
END:DAYLIGHT
BEGIN:STANDARD
TZOFFSETFROM:-0400
TZOFFSETTO:-0500
TZNAME:EST
DTSTART:20211107T060000
END:STANDARD
END:VTIMEZONE
BEGIN:VEVENT
DTSTART;TZID=America/Toronto:20201112T124500
DTEND;TZID=America/Toronto:20201112T140000
DTSTAMP:20260422T020359
CREATED:20200911T154211Z
LAST-MODIFIED:20201119T175059Z
UID:5828-1605185100-1605189600@aspercentre.ca
SUMMARY:Constitutional Roundtable with Professor Ran Hirschl
DESCRIPTION:“City\, State: Constitutionalism and the Megacity” by Ran Hirschl\n \nThe Asper Centre is pleased to present a Constitutional Roundtable on Thursday November\, 12 2020 at 12:45p.m. with Professor Ran Hirschl about his new book: City\, State: Constitutionalism and the Megacity (Oxford: 2020). \nThis book: \n\nAddresses a major scholarly gap – the great constitutional silence concerning urban agglomeration and the rise of megacities.\nProvides a detailed\, first-of-its-kind\, comparative analysis of the constitutional status of cities across time and place.\nProbes the origins and consequences of the constitutional (dis)empowerment of the metropolis.\nAdvances novel arguments for granting the metropolis adequate constitutional standing while mitigating the urban/rural divide.\n\nRan Hirschl is Professor of Political Science & Law at the University of Toronto. As of 2016\, he holds the Alexander von Humboldt Professorship in Comparative Constitutionalism\, having been granted a coveted AvH International Research Award (the most highly-endowed research award in Germany) by the Humboldt Foundation. From 2006 to 2016 he held the Canada Research Chair in Constitutionalism\, Democracy and Development at the University of Toronto. In 2014\, he was elected Fellow of the Royal Society of Canada (FRSC)–the highest academic accolade in that country. The official citation describes him as “one of the world’s leading scholars of comparative constitutional law\, courts and jurisprudence.” \nMany of the themes of this book can be found in this recent paper by Prof Hirschl: Cities in National Constitutions:\nNorthern Stagnation\, Southern Innovation. \n\nVIEW RECORDING of the WEBINAR HERE
URL:https://aspercentre.ca/event/constitutional-roundtable-with-professor-ran-hirschl/
END:VEVENT
END:VCALENDAR