BEGIN:VCALENDAR
VERSION:2.0
PRODID:-//David Asper Centre for Constitutional Rights - ECPv6.15.20//NONSGML v1.0//EN
CALSCALE:GREGORIAN
METHOD:PUBLISH
X-ORIGINAL-URL:https://aspercentre.ca
X-WR-CALDESC:Events for David Asper Centre for Constitutional Rights
REFRESH-INTERVAL;VALUE=DURATION:PT1H
X-Robots-Tag:noindex
X-PUBLISHED-TTL:PT1H
BEGIN:VTIMEZONE
TZID:America/Toronto
BEGIN:DAYLIGHT
TZOFFSETFROM:-0500
TZOFFSETTO:-0400
TZNAME:EDT
DTSTART:20210314T070000
END:DAYLIGHT
BEGIN:STANDARD
TZOFFSETFROM:-0400
TZOFFSETTO:-0500
TZNAME:EST
DTSTART:20211107T060000
END:STANDARD
BEGIN:DAYLIGHT
TZOFFSETFROM:-0500
TZOFFSETTO:-0400
TZNAME:EDT
DTSTART:20220313T070000
END:DAYLIGHT
BEGIN:STANDARD
TZOFFSETFROM:-0400
TZOFFSETTO:-0500
TZNAME:EST
DTSTART:20221106T060000
END:STANDARD
BEGIN:DAYLIGHT
TZOFFSETFROM:-0500
TZOFFSETTO:-0400
TZNAME:EDT
DTSTART:20230312T070000
END:DAYLIGHT
BEGIN:STANDARD
TZOFFSETFROM:-0400
TZOFFSETTO:-0500
TZNAME:EST
DTSTART:20231105T060000
END:STANDARD
END:VTIMEZONE
BEGIN:VEVENT
DTSTART;TZID=America/Toronto:20220913T123000
DTEND;TZID=America/Toronto:20220913T140000
DTSTAMP:20260421T151031
CREATED:20220815T205700Z
LAST-MODIFIED:20220907T163552Z
UID:7350-1663072200-1663077600@aspercentre.ca
SUMMARY:Student Working Groups Information Session (for U of T Law JD students)
DESCRIPTION:Dear U of T Law JD students\, \nPlease attend this important lunchtime Information session on September 13\, 2022 to find out about the volunteer opportunities available this year at the Asper Centre and the IHRP. Lunch will be provided! \nPlease check our student working group page to learn more about the public interest programs’ joint volunteer recruitment process guidelines (which will be available soon) for more details about how to get involved with our programs. \nWe look forward to meeting and working with you! \nThe David Asper Centre for Constitutional Rights \nThe Asper Centre is devoted to advocacy\, research\, and education in constitutional law in Canada. The cornerstone of the Centre is a legal clinic that brings together upper year students\, faculty\, and members of the bar to work on significant constitutional cases and advocacy initiatives for credit. \nStudents in all years can volunteer with one of the Asper Centre’s student working groups led by upper year students. Working groups prepare policy briefs\, draft public legal information materials\, organize workshops\, and/or conduct research on current or emerging constitutional law and Charter rights issues.  This year\, the Asper Centre is pleased to support the following working groups: i) Climate Justice; ii) Consent\, Sexual Assault\, and Constitutional Rights; iii) Prisoners’ Rights Handbook; iv) Police Oversight; and v) Reproductive Rights.  \nThe International Human Rights Program \nThe IHRP involves law students in international human rights law advocacy\, knowledge exchange\, and capacity-building. IHRP working groups are student-led projects that provide experiential learning opportunities in several areas of international law. The groups are led by upper year law students and are supervised and supported by the IHRP Director and Research Associates. This year\, the IHRP has 5 working groups: Women’s Human Rights Resources\, Global Health and Human Rights\, Cameroon Anglophone Crisis Database of Atrocities\, Sexual Orientation and Gender Identity\, and the Venezuela Accountability Project.
URL:https://aspercentre.ca/event/student-working-groups-information-session-for-u-of-t-law-jd-students/
LOCATION:J250 Jackman Law Building
END:VEVENT
END:VCALENDAR