BEGIN:VCALENDAR
VERSION:2.0
PRODID:-//David Asper Centre for Constitutional Rights - ECPv6.15.20//NONSGML v1.0//EN
CALSCALE:GREGORIAN
METHOD:PUBLISH
X-WR-CALNAME:David Asper Centre for Constitutional Rights
X-ORIGINAL-URL:https://aspercentre.ca
X-WR-CALDESC:Events for David Asper Centre for Constitutional Rights
REFRESH-INTERVAL;VALUE=DURATION:PT1H
X-Robots-Tag:noindex
X-PUBLISHED-TTL:PT1H
BEGIN:VTIMEZONE
TZID:America/Toronto
BEGIN:DAYLIGHT
TZOFFSETFROM:-0500
TZOFFSETTO:-0400
TZNAME:EDT
DTSTART:20220313T070000
END:DAYLIGHT
BEGIN:STANDARD
TZOFFSETFROM:-0400
TZOFFSETTO:-0500
TZNAME:EST
DTSTART:20221106T060000
END:STANDARD
BEGIN:DAYLIGHT
TZOFFSETFROM:-0500
TZOFFSETTO:-0400
TZNAME:EDT
DTSTART:20230312T070000
END:DAYLIGHT
BEGIN:STANDARD
TZOFFSETFROM:-0400
TZOFFSETTO:-0500
TZNAME:EST
DTSTART:20231105T060000
END:STANDARD
BEGIN:DAYLIGHT
TZOFFSETFROM:-0500
TZOFFSETTO:-0400
TZNAME:EDT
DTSTART:20240310T070000
END:DAYLIGHT
BEGIN:STANDARD
TZOFFSETFROM:-0400
TZOFFSETTO:-0500
TZNAME:EST
DTSTART:20241103T060000
END:STANDARD
END:VTIMEZONE
BEGIN:VEVENT
DTSTART;TZID=America/Toronto:20230120T120000
DTEND;TZID=America/Toronto:20230120T120000
DTSTAMP:20260421T091555
CREATED:20230106T153249Z
LAST-MODIFIED:20230106T153401Z
UID:7657-1674216000-1674216000@aspercentre.ca
SUMMARY:Project Manager position - Application Deadline
DESCRIPTION:The Factor-Inwentash Faculty of Social Work\, jointly with the David Asper Centre for Constitutional Rights\, is seeking a part-time student to supervise its Law Foundation of Ontario funded project: Toolkit for Evidence-Based Child Protection Practice. \nNOTE: Job applicant must be a University of Toronto upper year/graduate law student or social work student. \nPlease see Job Advert HERE
URL:https://aspercentre.ca/event/project-manager-position-application-deadline/
END:VEVENT
BEGIN:VEVENT
DTSTART;TZID=America/Toronto:20230126T163000
DTEND;TZID=America/Toronto:20230126T174500
DTSTAMP:20260421T091555
CREATED:20230104T162008Z
LAST-MODIFIED:20230111T201948Z
UID:7645-1674750600-1674755100@aspercentre.ca
SUMMARY:Morris A. Gross Memorial Lecture 2023
DESCRIPTION:Register at morrisgross2023.eventbrite.com\n\nThe Morris A. Gross Memorial Lecture was established in memory of the late Morris A. Gross by the law firm Minden Gross LLP and by members of his family\, friends and professional associates. The intention of the lectureship is to\, every two years\, bring to the Faculty of Law a distinguished scholar or a member of the practising bar or bench for discussion with the student body and Faculty\, and to deliver the bi-annual Morris A. Gross Memorial Lecture.\n\n\n\n\nThe 2023 Morris A. Gross Memorial Lecture\n \nThe Hon. Michael H. Tulloch\nChief Justice of Ontario and President of the Court of Appeal for Ontario\nIntroduction by Professor Kent Roach\nThe Morris A. Gross Memorial Lecture is convened by the David Asper Centre for Constitutional Rights and is open to all members of the U of T Law community. \n \nRegister at morrisgross2023.eventbrite.com
URL:https://aspercentre.ca/event/morris-a-gross-memorial-lecture-2023/
LOCATION:J250 Jackman Law Building Moot Court
END:VEVENT
BEGIN:VEVENT
DTSTART;VALUE=DATE:20230131
DTEND;VALUE=DATE:20230201
DTSTAMP:20260421T091555
CREATED:20221201T144515Z
LAST-MODIFIED:20221201T144629Z
UID:7604-1675123200-1675209599@aspercentre.ca
SUMMARY:Proposal Deadline: Litigating Equality in Canada Symposium
DESCRIPTION:We are pleased to announce our upcoming Symposium\, Litigating Equality in Canada\, is due to take place on Friday\, May 26\, 2023. \nPlease see our Call for Proposals below. The Deadline for proposals is January 31\, 2023. \nAsper Centre CALL FOR PAPERS Section 15 Symposium\n 
URL:https://aspercentre.ca/event/proposal-deadline-litigating-equality-in-canada-symposium/
END:VEVENT
END:VCALENDAR