BEGIN:VCALENDAR
VERSION:2.0
PRODID:-//David Asper Centre for Constitutional Rights - ECPv6.15.20//NONSGML v1.0//EN
CALSCALE:GREGORIAN
METHOD:PUBLISH
X-WR-CALNAME:David Asper Centre for Constitutional Rights
X-ORIGINAL-URL:https://aspercentre.ca
X-WR-CALDESC:Events for David Asper Centre for Constitutional Rights
REFRESH-INTERVAL;VALUE=DURATION:PT1H
X-Robots-Tag:noindex
X-PUBLISHED-TTL:PT1H
BEGIN:VTIMEZONE
TZID:America/Toronto
BEGIN:DAYLIGHT
TZOFFSETFROM:-0500
TZOFFSETTO:-0400
TZNAME:EDT
DTSTART:20240310T070000
END:DAYLIGHT
BEGIN:STANDARD
TZOFFSETFROM:-0400
TZOFFSETTO:-0500
TZNAME:EST
DTSTART:20241103T060000
END:STANDARD
BEGIN:DAYLIGHT
TZOFFSETFROM:-0500
TZOFFSETTO:-0400
TZNAME:EDT
DTSTART:20250309T070000
END:DAYLIGHT
BEGIN:STANDARD
TZOFFSETFROM:-0400
TZOFFSETTO:-0500
TZNAME:EST
DTSTART:20251102T060000
END:STANDARD
BEGIN:DAYLIGHT
TZOFFSETFROM:-0500
TZOFFSETTO:-0400
TZNAME:EDT
DTSTART:20260308T070000
END:DAYLIGHT
BEGIN:STANDARD
TZOFFSETFROM:-0400
TZOFFSETTO:-0500
TZNAME:EST
DTSTART:20261101T060000
END:STANDARD
END:VTIMEZONE
BEGIN:VEVENT
DTSTART;TZID=America/Toronto:20250718T120000
DTEND;TZID=America/Toronto:20250718T120000
DTSTAMP:20260419T150302
CREATED:20250704T153143Z
LAST-MODIFIED:20250708T140534Z
UID:9514-1752840000-1752840000@aspercentre.ca
SUMMARY:Due date for Asper Centre Clinic (for U of T Law students)
DESCRIPTION:Attention current Upper Year students at U of T Law who are interested in applying to the Asper Centre Fall clinic for-credit course! \nThis year\, the course will be co-taught by our Executive Director\, Cheryl Milne and our 2025 Constitutional Litigator in Residence\, Megan Savard. \nPlease send your one-page statement of interest to Executive Director Cheryl Milne (cheryl.milne@utoronto.ca) by noon on July 18\, 2025.
URL:https://aspercentre.ca/event/application-due-date-for-asper-centre-clinic/
END:VEVENT
END:VCALENDAR