BEGIN:VCALENDAR
VERSION:2.0
PRODID:-//David Asper Centre for Constitutional Rights - ECPv6.15.20//NONSGML v1.0//EN
CALSCALE:GREGORIAN
METHOD:PUBLISH
X-WR-CALNAME:David Asper Centre for Constitutional Rights
X-ORIGINAL-URL:https://aspercentre.ca
X-WR-CALDESC:Events for David Asper Centre for Constitutional Rights
REFRESH-INTERVAL;VALUE=DURATION:PT1H
X-Robots-Tag:noindex
X-PUBLISHED-TTL:PT1H
BEGIN:VTIMEZONE
TZID:America/Toronto
BEGIN:DAYLIGHT
TZOFFSETFROM:-0500
TZOFFSETTO:-0400
TZNAME:EDT
DTSTART:20220313T070000
END:DAYLIGHT
BEGIN:STANDARD
TZOFFSETFROM:-0400
TZOFFSETTO:-0500
TZNAME:EST
DTSTART:20221106T060000
END:STANDARD
BEGIN:DAYLIGHT
TZOFFSETFROM:-0500
TZOFFSETTO:-0400
TZNAME:EDT
DTSTART:20230312T070000
END:DAYLIGHT
BEGIN:STANDARD
TZOFFSETFROM:-0400
TZOFFSETTO:-0500
TZNAME:EST
DTSTART:20231105T060000
END:STANDARD
BEGIN:DAYLIGHT
TZOFFSETFROM:-0500
TZOFFSETTO:-0400
TZNAME:EDT
DTSTART:20240310T070000
END:DAYLIGHT
BEGIN:STANDARD
TZOFFSETFROM:-0400
TZOFFSETTO:-0500
TZNAME:EST
DTSTART:20241103T060000
END:STANDARD
END:VTIMEZONE
BEGIN:VEVENT
DTSTART;TZID=America/Toronto:20230323T123000
DTEND;TZID=America/Toronto:20230323T140000
DTSTAMP:20260421T000603
CREATED:20230215T174552Z
LAST-MODIFIED:20240304T133612Z
UID:7706-1679574600-1679580000@aspercentre.ca
SUMMARY:Constitutional Roundtable with Professor Eleonora Bottini
DESCRIPTION:  \nPlease join us on Thursday March 23\, 2023 at 12:30pm for an Asper Centre Constitutional Roundtable with Professor Eleonora Bottini on her forthcoming paper titled “Modernizing Constitutions: A comparative analysis of justifications for constitutional reforms.” \nThe David Asper Centre for Constitutional Rights’ Constitutional Roundtables are an annual series of lunchtime discussion forums that provide an opportunity to consider developments in Canadian constitutional theory and practice. The Constitutional Roundtable series promotes scholarship and aims to make a meaningful contribution to intellectual discourse about Canadian constitutional law. \nAll are welcome. No Registration or RSVP required. Light lunch will be provided. \nVenue: John Willis Classroom FL219\, Flavelle House\, Faculty of Law\, University of Toronto \nAbstract: The idea\, dear to Thomas Jefferson\, that a people cannot be subjected by the laws of the previous generations is in direct contrast with the intention of the constituent power to make the constitution– as opposed to ordinary legislation – last for more than one generation. One way to conciliate this paradox of constitutional theory is the possibility of amending the text of rigid constitutions if and when they become “outdated”. Therefore\, a very effective argument to legitimize constitutional amendments has been that they serve the modernization of the constitution\, making it compatible with current times without having to substitute it entirely\, which could be politically impossible or undesirable. This paper critically examines the uses of the constitutional modernization argument (CMA) from a comparative perspective\, by studying examples of constitutional reforms from 2000 to 2022 in various countries. The paper’s contribution is firstly to unpack the structure and assumptions of CMA and to divide it into sub-arguments in order to provide a better understanding of those types of justifications. The paper concludes on a critique of CMA as an unjustified objectivization of constitutional reforms which can mask the changed political preferences that amendments convey. \nEleonora Bottini is Full Professor of Public Law at the University of Caen-Normandy (France) and is currently the Martin-Flynn Global Law Professor at University of Connecticut School of Law. She served previously as associate professor at Sorbonne Law School in Paris and was the Alliance Visiting Professor at Columbia University. She specializes in comparative constitutional law\, French constitutional law and legal theory. She has published several articles and book chapters in French\, Italian and English and she is the author of a book based on her PhD thesis\, “Constitutional sanction: study of a doctrinal argument” (Dalloz\, 2016\, in French)\, on the theoretical origins of judicial review. \n\n  \n 
URL:https://aspercentre.ca/event/constitutional-roundtable-with-prof-eleonora-bottini/
LOCATION:TBD
END:VEVENT
END:VCALENDAR