BEGIN:VCALENDAR
VERSION:2.0
PRODID:-//David Asper Centre for Constitutional Rights - ECPv6.15.20//NONSGML v1.0//EN
CALSCALE:GREGORIAN
METHOD:PUBLISH
X-ORIGINAL-URL:https://aspercentre.ca
X-WR-CALDESC:Events for David Asper Centre for Constitutional Rights
REFRESH-INTERVAL;VALUE=DURATION:PT1H
X-Robots-Tag:noindex
X-PUBLISHED-TTL:PT1H
BEGIN:VTIMEZONE
TZID:America/Toronto
BEGIN:DAYLIGHT
TZOFFSETFROM:-0500
TZOFFSETTO:-0400
TZNAME:EDT
DTSTART:20210314T070000
END:DAYLIGHT
BEGIN:STANDARD
TZOFFSETFROM:-0400
TZOFFSETTO:-0500
TZNAME:EST
DTSTART:20211107T060000
END:STANDARD
BEGIN:DAYLIGHT
TZOFFSETFROM:-0500
TZOFFSETTO:-0400
TZNAME:EDT
DTSTART:20220313T070000
END:DAYLIGHT
BEGIN:STANDARD
TZOFFSETFROM:-0400
TZOFFSETTO:-0500
TZNAME:EST
DTSTART:20221106T060000
END:STANDARD
BEGIN:DAYLIGHT
TZOFFSETFROM:-0500
TZOFFSETTO:-0400
TZNAME:EDT
DTSTART:20230312T070000
END:DAYLIGHT
BEGIN:STANDARD
TZOFFSETFROM:-0400
TZOFFSETTO:-0500
TZNAME:EST
DTSTART:20231105T060000
END:STANDARD
END:VTIMEZONE
BEGIN:VEVENT
DTSTART;TZID=America/Toronto:20221028T120000
DTEND;TZID=America/Toronto:20221028T150000
DTSTAMP:20260421T061803
CREATED:20220922T145104Z
LAST-MODIFIED:20221024T142057Z
UID:7434-1666958400-1666969200@aspercentre.ca
SUMMARY:IHRP & Asper Centre book forum with Ninette Kelly - People Forced to Flee: History\, Change and Challenge
DESCRIPTION:REGISTER\nBook Forum hosted by the International Human Rights Program and the David Asper Centre for Constitutional Rights\n\n\n\nFriday\, October 28\, 2022 – 12:00pm to 3:00pm (light lunch served for those in person\, at noon; program starting at 12:30pm) \nJackman Law Building\, J140 or virtual\n\n\n\n \nPeople Forced to Flee: History\, Change and Challenge (Oxford University Press 2022) by Ninette Kelley\nProgram \n\nWords of welcome from Dean Jutta Brunnée\nBook overview by Ninette Kelley\n\nCommentators \n\nErin Simpson (JD 2013)\nIHRP alumna\, founding partner of Landings LLP\, practicing refugee and immigration law in Toronto\nProfessor Yin-Yuan Chen (MSW 2005\, JD 2010\, SJD 2020)\nIHRP and Asper Centre alumnus\, University of Ottawa Faculty of Law (Common Law section)\, researching refugees’ access to health care\nProfessor Ghizaal Haress\nVisiting Scholar and Scholar-at-Risk\, University of Toronto Faculty of Law and Munk School of Global Affairs & Public Policy\nFen Hampson (attending virtually)\nPresident\, World Refugee and Migration Council\n\n\nResponse by Author \nNinette Kelley is a former senior officer in UNHCR. She recently completed a book for UNHCR to commemorate the 70th anniversaries of the creation of the Office (2020) and of the 1951 Convention Relating to the Status of Refugees (2021). People Forced to Flee: History\, Change and Challenge (Oxford University Press\, 2022). It reflects back and looks forward: drawing on the lessons of history to probe how we can improve responses to forced displacement. Prior assignments included UNHCR Director\, New York (2015-2019) and UNHCR Representative\, Lebanon (2010-2015). \nKelley has also held various policy and consultative roles with international humanitarian agencies focusing on development\, immigration and refugee issues. In Canada she served eight years on the Immigration and Refugee Board (IRB). She is the author of The Making of the Mosaic: The History of Canadian Immigration Policy\, University of Toronto Press\, 2nd edition\, October 2010 (with Michael Trebilcock) and has published in the areas of human rights law\, citizenship\, refugee protection\, gender related persecution and the Canadian Charter of Rights and Freedoms. She is a lawyer by training. \n\nREGISTER
URL:https://aspercentre.ca/event/ihrp-asper-centre-book-forum-with-ninette-kelly-people-forced-to-flee-history-change-and-challenge/
LOCATION:J140 Jackman Law Building\, 78 Queen's Park Cres\, Toronto\, Ontario\, M5S 2C5\, Canada
END:VEVENT
END:VCALENDAR